BEGIN:VCALENDAR
VERSION:2.0
PRODID:-//Leech Lake Tribal College - ECPv6.15.20//NONSGML v1.0//EN
CALSCALE:GREGORIAN
METHOD:PUBLISH
X-WR-CALNAME:Leech Lake Tribal College
X-ORIGINAL-URL:https://www.lltc.edu
X-WR-CALDESC:Events for Leech Lake Tribal College
REFRESH-INTERVAL;VALUE=DURATION:PT1H
X-Robots-Tag:noindex
X-PUBLISHED-TTL:PT1H
BEGIN:VTIMEZONE
TZID:UTC
BEGIN:STANDARD
TZOFFSETFROM:+0000
TZOFFSETTO:+0000
TZNAME:UTC
DTSTART:20220101T000000
END:STANDARD
END:VTIMEZONE
BEGIN:VEVENT
DTSTART;TZID=UTC:20240214T150000
DTEND;TZID=UTC:20240214T170000
DTSTAMP:20260420T141836
CREATED:20240208T002420Z
LAST-MODIFIED:20240208T002421Z
UID:10000115-1707922800-1707930000@www.lltc.edu
SUMMARY:Community Ojibwemowin Language Table and Feast
DESCRIPTION:Come join us on Wednesdays 3PM to 5PM to eat together and speak in ojibwemowin! We will come together every Wednesday in the Drum Room throughout the semester\, so you’re welcome to stop in for a little while\, or stay the whole time. All Anishinaabeg are welcome to come\, no matter how much you speak ojibwemowin\, and you can bring your kids along too. We ask that everyone tries to speak only in ojibwemowin so that we keep this an immersion event. We hope to see you soon at the language table!
URL:https://www.lltc.edu/event/community-ojibwemowin-language-table-and-feast/
LOCATION:LLTC Drum Room\, 6945 Little Wolf Road NW\, Cass Lake\, MN\, 56633
ATTACH;FMTTYPE=image/jpeg:https://www.lltc.edu/wp-content/uploads/2024/02/ll_langiage.jpg
END:VEVENT
BEGIN:VEVENT
DTSTART;TZID=UTC:20240213T170000
DTEND;TZID=UTC:20240213T190000
DTSTAMP:20260420T141836
CREATED:20240127T011718Z
LAST-MODIFIED:20240127T011718Z
UID:10000105-1707843600-1707850800@www.lltc.edu
SUMMARY:Honoring our Alumni
DESCRIPTION:Join us on February 13th\, 2024\, from 5:00-7:00 PM in the LLTC Drum Room for a spectacular evening honoring our esteemed Alumni at Leech Lake Tribal College! Hosted by the Workforce Development Office\, get ready to indulge in our delicious Taco Bar\, share your memories with Alumni Surveys\, and enjoy thrilling rounds of Bingo! Let’s come together to celebrate the achievements of our amazing graduates and create lasting connections.
URL:https://www.lltc.edu/event/honoring-our-alumni/
LOCATION:LLTC Drum Room\, 6945 Little Wolf Road NW\, Cass Lake\, MN\, 56633
ATTACH;FMTTYPE=image/jpeg:https://www.lltc.edu/wp-content/uploads/2024/01/422931850_814803047329336_7032484655969942318_n.jpg
END:VEVENT
BEGIN:VEVENT
DTSTART;TZID=UTC:20240126T170000
DTEND;TZID=UTC:20240126T183000
DTSTAMP:20260420T141836
CREATED:20240112T211950Z
LAST-MODIFIED:20240117T234926Z
UID:10000102-1706288400-1706293800@www.lltc.edu
SUMMARY:Learn Self Defense at LLTC!
DESCRIPTION:
URL:https://www.lltc.edu/event/learn-self-defense-at-lltc-2/
LOCATION:LLTC Drum Room\, 6945 Little Wolf Road NW\, Cass Lake\, MN\, 56633
ATTACH;FMTTYPE=image/jpeg:https://www.lltc.edu/wp-content/uploads/2024/01/self_defense_2023_instapost.jpg
END:VEVENT
BEGIN:VEVENT
DTSTART;TZID=UTC:20240125T120000
DTEND;TZID=UTC:20240125T140000
DTSTAMP:20260420T141836
CREATED:20240106T040256Z
LAST-MODIFIED:20240123T210452Z
UID:10000100-1706184000-1706191200@www.lltc.edu
SUMMARY:D.E.E.T Launch & Lunch
DESCRIPTION:
URL:https://www.lltc.edu/event/d-e-e-t-launch-lunch/
LOCATION:LLTC Drum Room\, 6945 Little Wolf Road NW\, Cass Lake\, MN\, 56633
ATTACH;FMTTYPE=image/jpeg:https://www.lltc.edu/wp-content/uploads/2024/01/LLTC_DEET_Launch_ad_final.jpg
END:VEVENT
BEGIN:VEVENT
DTSTART;TZID=UTC:20240119T170000
DTEND;TZID=UTC:20240119T183000
DTSTAMP:20260420T141836
CREATED:20240112T211735Z
LAST-MODIFIED:20240118T000015Z
UID:10000101-1705683600-1705689000@www.lltc.edu
SUMMARY:Learn Self Defense at LLTC!
DESCRIPTION:
URL:https://www.lltc.edu/event/learn-self-defense-at-lltc/
LOCATION:LLTC Drum Room\, 6945 Little Wolf Road NW\, Cass Lake\, MN\, 56633
ATTACH;FMTTYPE=image/jpeg:https://www.lltc.edu/wp-content/uploads/2024/01/self_defense_2023_instapost.jpg
END:VEVENT
BEGIN:VEVENT
DTSTART;TZID=UTC:20240118T120000
DTEND;TZID=UTC:20240118T130000
DTSTAMP:20260420T141836
CREATED:20240113T031725Z
LAST-MODIFIED:20240117T234843Z
UID:10000103-1705579200-1705582800@www.lltc.edu
SUMMARY:Gay\, Two Spirit Straight Alliance First Meeting
DESCRIPTION:
URL:https://www.lltc.edu/event/gay-two-spirit-straight-alliance-first-meeting/
LOCATION:LLTC Drum Room\, 6945 Little Wolf Road NW\, Cass Lake\, MN\, 56633
ATTACH;FMTTYPE=image/png:https://www.lltc.edu/wp-content/uploads/2024/01/LLTC-FACEBOOK-scaled.png
END:VEVENT
BEGIN:VEVENT
DTSTART;VALUE=DATE:20231116
DTEND;VALUE=DATE:20231117
DTSTAMP:20260420T141836
CREATED:20231026T030105Z
LAST-MODIFIED:20231026T030223Z
UID:10000007-1700092800-1700179199@www.lltc.edu
SUMMARY:LLTC Give to the Max Fundraiser
DESCRIPTION:It’s that wonderful time of the year!  LLTC is thrilled to be a part of the Give to the Max fundraiser. Get ready for an exciting lineup of events\, including the highly anticipated Silent Auction\, the thrilling Pick-a-Prize raffle\, and the scrumptious Student Senate Taco Sale. \n\n\n\nStay tuned with LLTC for more updates on these amazing events and discover how you can contribute to this impactful initiative. \n\n\n\n Want to contribute to the FB Silent Auction? Send your generous donations to:\n\n\n LEECH LAKE TRIBAL COLLEGE\nATTN: Give To The Max\n6945 Little Wolf Road NW\nCass Lake\, MN 56633\n\n\n\n If you’re interested in establishing an endowed scholarship or need more information on how you can support LLTC\, feel free to get in touch with Ryan White at (218) 335-4229. \n\n\n\n Your support can make a significant difference! Join us in this incredible journey of empowering education and community growth. Support LLTC now at: https://www.givemn.org/organiza…/Leech-Lake-Tribal-College
URL:https://www.lltc.edu/event/lltc-give-to-the-max-fundraiser/
LOCATION:LLTC Drum Room\, 6945 Little Wolf Road NW\, Cass Lake\, MN\, 56633
ATTACH;FMTTYPE=image/jpeg:https://www.lltc.edu/wp-content/uploads/2023/10/395218117_756681119808196_3904770032190441979_n.jpg
END:VEVENT
BEGIN:VEVENT
DTSTART;TZID=UTC:20231103T113000
DTEND;TZID=UTC:20231103T130000
DTSTAMP:20260420T141836
CREATED:20231026T025812Z
LAST-MODIFIED:20231026T025909Z
UID:10000006-1699011000-1699016400@www.lltc.edu
SUMMARY:LLTC Fall Feast
DESCRIPTION:Your invited to attend LLTC’s 2023 Fall Feast on November 3rd at 11:30 A.M. in Located in the Drum Room. \nDon’t forget to #StaySafe and #GetTheVax to ensure a fun Fall feast! \nMiigwech!
URL:https://www.lltc.edu/event/lltc-fall-feast/
LOCATION:LLTC Drum Room\, 6945 Little Wolf Road NW\, Cass Lake\, MN\, 56633
ATTACH;FMTTYPE=image/jpeg:https://www.lltc.edu/wp-content/uploads/2023/10/395226846_756848693124772_8514793416217808328_n.jpg
END:VEVENT
BEGIN:VEVENT
DTSTART;TZID=UTC:20230425T000000
DTEND;TZID=UTC:20230425T130000
DTSTAMP:20260420T141836
CREATED:20230201T010140Z
LAST-MODIFIED:20230201T010515Z
UID:10000080-1682380800-1682427600@www.lltc.edu
SUMMARY:Student Lunch  with the President
DESCRIPTION:Every Last Tuesday of the Month at Noon in the Drum Room \nLunch with the President and Round Table Discussion about LLTC\, Fall Semester\, Spring semester\, In-Person & Online Class Modalities\, Extracurricular Activities\, and/or anything else you would like to discuss! 
URL:https://www.lltc.edu/event/student-lunch-with-the-president/2023-04-25/
LOCATION:LLTC Drum Room\, 6945 Little Wolf Road NW\, Cass Lake\, MN\, 56633
END:VEVENT
BEGIN:VEVENT
DTSTART;TZID=UTC:20230328T000000
DTEND;TZID=UTC:20230328T130000
DTSTAMP:20260420T141836
CREATED:20230201T010140Z
LAST-MODIFIED:20230201T010515Z
UID:10000079-1679961600-1680008400@www.lltc.edu
SUMMARY:Student Lunch  with the President
DESCRIPTION:Every Last Tuesday of the Month at Noon in the Drum Room \nLunch with the President and Round Table Discussion about LLTC\, Fall Semester\, Spring semester\, In-Person & Online Class Modalities\, Extracurricular Activities\, and/or anything else you would like to discuss! 
URL:https://www.lltc.edu/event/student-lunch-with-the-president/2023-03-28/
LOCATION:LLTC Drum Room\, 6945 Little Wolf Road NW\, Cass Lake\, MN\, 56633
END:VEVENT
BEGIN:VEVENT
DTSTART;TZID=UTC:20230228T000000
DTEND;TZID=UTC:20230228T130000
DTSTAMP:20260420T141836
CREATED:20230201T010140Z
LAST-MODIFIED:20230201T010515Z
UID:10000078-1677542400-1677589200@www.lltc.edu
SUMMARY:Student Lunch  with the President
DESCRIPTION:Every Last Tuesday of the Month at Noon in the Drum Room \nLunch with the President and Round Table Discussion about LLTC\, Fall Semester\, Spring semester\, In-Person & Online Class Modalities\, Extracurricular Activities\, and/or anything else you would like to discuss! 
URL:https://www.lltc.edu/event/student-lunch-with-the-president/2023-02-28/
LOCATION:LLTC Drum Room\, 6945 Little Wolf Road NW\, Cass Lake\, MN\, 56633
END:VEVENT
BEGIN:VEVENT
DTSTART;TZID=UTC:20230131T000000
DTEND;TZID=UTC:20230131T130000
DTSTAMP:20260420T141836
CREATED:20230201T010140Z
LAST-MODIFIED:20230201T010515Z
UID:10000077-1675123200-1675170000@www.lltc.edu
SUMMARY:Student Lunch  with the President
DESCRIPTION:Every Last Tuesday of the Month at Noon in the Drum Room \nLunch with the President and Round Table Discussion about LLTC\, Fall Semester\, Spring semester\, In-Person & Online Class Modalities\, Extracurricular Activities\, and/or anything else you would like to discuss! 
URL:https://www.lltc.edu/event/student-lunch-with-the-president/2023-01-31/
LOCATION:LLTC Drum Room\, 6945 Little Wolf Road NW\, Cass Lake\, MN\, 56633
END:VEVENT
END:VCALENDAR