BEGIN:VCALENDAR
VERSION:2.0
PRODID:-//Leech Lake Tribal College - ECPv6.15.20//NONSGML v1.0//EN
CALSCALE:GREGORIAN
METHOD:PUBLISH
X-WR-CALNAME:Leech Lake Tribal College
X-ORIGINAL-URL:https://www.lltc.edu
X-WR-CALDESC:Events for Leech Lake Tribal College
REFRESH-INTERVAL;VALUE=DURATION:PT1H
X-Robots-Tag:noindex
X-PUBLISHED-TTL:PT1H
BEGIN:VTIMEZONE
TZID:America/Chicago
BEGIN:DAYLIGHT
TZOFFSETFROM:-0600
TZOFFSETTO:-0500
TZNAME:CDT
DTSTART:20230312T080000
END:DAYLIGHT
BEGIN:STANDARD
TZOFFSETFROM:-0500
TZOFFSETTO:-0600
TZNAME:CST
DTSTART:20231105T070000
END:STANDARD
BEGIN:DAYLIGHT
TZOFFSETFROM:-0600
TZOFFSETTO:-0500
TZNAME:CDT
DTSTART:20240310T080000
END:DAYLIGHT
BEGIN:STANDARD
TZOFFSETFROM:-0500
TZOFFSETTO:-0600
TZNAME:CST
DTSTART:20241103T070000
END:STANDARD
BEGIN:DAYLIGHT
TZOFFSETFROM:-0600
TZOFFSETTO:-0500
TZNAME:CDT
DTSTART:20250309T080000
END:DAYLIGHT
BEGIN:STANDARD
TZOFFSETFROM:-0500
TZOFFSETTO:-0600
TZNAME:CST
DTSTART:20251102T070000
END:STANDARD
BEGIN:DAYLIGHT
TZOFFSETFROM:-0600
TZOFFSETTO:-0500
TZNAME:CDT
DTSTART:20260308T080000
END:DAYLIGHT
BEGIN:STANDARD
TZOFFSETFROM:-0500
TZOFFSETTO:-0600
TZNAME:CST
DTSTART:20261101T070000
END:STANDARD
END:VTIMEZONE
BEGIN:VTIMEZONE
TZID:America/Chicago
BEGIN:DAYLIGHT
TZOFFSETFROM:-0600
TZOFFSETTO:-0500
TZNAME:CDT
DTSTART:20230312T080000
END:DAYLIGHT
BEGIN:STANDARD
TZOFFSETFROM:-0500
TZOFFSETTO:-0600
TZNAME:CST
DTSTART:20231105T070000
END:STANDARD
BEGIN:DAYLIGHT
TZOFFSETFROM:-0600
TZOFFSETTO:-0500
TZNAME:CDT
DTSTART:20240310T080000
END:DAYLIGHT
BEGIN:STANDARD
TZOFFSETFROM:-0500
TZOFFSETTO:-0600
TZNAME:CST
DTSTART:20241103T070000
END:STANDARD
BEGIN:DAYLIGHT
TZOFFSETFROM:-0600
TZOFFSETTO:-0500
TZNAME:CDT
DTSTART:20250309T080000
END:DAYLIGHT
BEGIN:STANDARD
TZOFFSETFROM:-0500
TZOFFSETTO:-0600
TZNAME:CST
DTSTART:20251102T070000
END:STANDARD
END:VTIMEZONE
BEGIN:VEVENT
DTSTART;VALUE=DATE:20250217
DTEND;VALUE=DATE:20250218
DTSTAMP:20260420T100703
CREATED:20240715T143457Z
LAST-MODIFIED:20240715T143457Z
UID:10000213-1739750400-1739836799@www.lltc.edu
SUMMARY:President's Day: Campus Closed
DESCRIPTION:
URL:https://www.lltc.edu/event/presidents-day-campus-closed/
LOCATION:Leech Lake Tribal College\, 6945 Little Wolf Rd NW\, Cass Lake\, MN\, 56633\, United States
ATTACH;FMTTYPE=image/jpeg:https://www.lltc.edu/wp-content/uploads/2024/07/SITEIMAGE-27.jpg
END:VEVENT
BEGIN:VEVENT
DTSTART;TZID=America/Chicago:20250127T080000
DTEND;TZID=America/Chicago:20250127T163000
DTSTAMP:20260420T100703
CREATED:20240715T143130Z
LAST-MODIFIED:20240715T143211Z
UID:10000212-1737964800-1737995400@www.lltc.edu
SUMMARY:Fall 2024 Incompletes Due
DESCRIPTION:
URL:https://www.lltc.edu/event/fall-2024-incompletes-due/
LOCATION:Leech Lake Tribal College\, 6945 Little Wolf Rd NW\, Cass Lake\, MN\, 56633\, United States
END:VEVENT
BEGIN:VEVENT
DTSTART;TZID=America/Chicago:20250124T080000
DTEND;TZID=America/Chicago:20250124T163000
DTSTAMP:20260420T100703
CREATED:20240715T143054Z
LAST-MODIFIED:20250122T161710Z
UID:10000211-1737705600-1737736200@www.lltc.edu
SUMMARY:Graduation Applications Due
DESCRIPTION:
URL:https://www.lltc.edu/event/graduation-applications-due-2/
LOCATION:Leech Lake Tribal College\, 6945 Little Wolf Rd NW\, Cass Lake\, MN\, 56633\, United States
ATTACH;FMTTYPE=image/jpeg:https://www.lltc.edu/wp-content/uploads/2024/07/SITEIMAGE-25.jpg
END:VEVENT
BEGIN:VEVENT
DTSTART;TZID=America/Chicago:20250124T080000
DTEND;TZID=America/Chicago:20250124T163000
DTSTAMP:20260420T100703
CREATED:20240715T142807Z
LAST-MODIFIED:20240715T142807Z
UID:10000210-1737705600-1737736200@www.lltc.edu
SUMMARY:Last Day to Drop a Class for the Spring 2025 Semester
DESCRIPTION:
URL:https://www.lltc.edu/event/last-day-to-drop-a-class-for-the-spring-2025-semester/
LOCATION:Leech Lake Tribal College\, 6945 Little Wolf Rd NW\, Cass Lake\, MN\, 56633\, United States
ATTACH;FMTTYPE=image/jpeg:https://www.lltc.edu/wp-content/uploads/2024/07/SITEIMAGE-07.jpg
END:VEVENT
BEGIN:VEVENT
DTSTART;VALUE=DATE:20250120
DTEND;VALUE=DATE:20250121
DTSTAMP:20260420T100703
CREATED:20240715T141759Z
LAST-MODIFIED:20240715T142033Z
UID:10000207-1737331200-1737417599@www.lltc.edu
SUMMARY:Martin Luther King Day: Campus Closed
DESCRIPTION:
URL:https://www.lltc.edu/event/martin-luther-king-day-campus-closed/
LOCATION:Leech Lake Tribal College\, 6945 Little Wolf Rd NW\, Cass Lake\, MN\, 56633\, United States
ATTACH;FMTTYPE=image/jpeg:https://www.lltc.edu/wp-content/uploads/2024/07/SITEIMAGE-24.jpg
END:VEVENT
BEGIN:VEVENT
DTSTART;TZID=America/Chicago:20250117T080000
DTEND;TZID=America/Chicago:20250117T163000
DTSTAMP:20260420T100703
CREATED:20240715T142400Z
LAST-MODIFIED:20240715T142646Z
UID:10000209-1737100800-1737131400@www.lltc.edu
SUMMARY:Last Day to Add a Class for the Spring 2025 Semester
DESCRIPTION:
URL:https://www.lltc.edu/event/last-day-to-add-a-class-for-the-spring-2025-semester/
LOCATION:Leech Lake Tribal College\, 6945 Little Wolf Rd NW\, Cass Lake\, MN\, 56633\, United States
ATTACH;FMTTYPE=image/jpeg:https://www.lltc.edu/wp-content/uploads/2024/07/SITEIMAGE-06.jpg
END:VEVENT
BEGIN:VEVENT
DTSTART;TZID=America/Chicago:20250113T080000
DTEND;TZID=America/Chicago:20250113T163000
DTSTAMP:20260420T100703
CREATED:20240715T140016Z
LAST-MODIFIED:20240715T140016Z
UID:10000206-1736755200-1736785800@www.lltc.edu
SUMMARY:First Day of Spring 2025 Classes
DESCRIPTION:
URL:https://www.lltc.edu/event/first-day-of-spring-2025-classes/
LOCATION:Leech Lake Tribal College\, 6945 Little Wolf Rd NW\, Cass Lake\, MN\, 56633\, United States
ATTACH;FMTTYPE=image/jpeg:https://www.lltc.edu/wp-content/uploads/2024/07/SITEIMAGE-04.jpg
END:VEVENT
BEGIN:VEVENT
DTSTART;TZID=America/Chicago:20250110T080000
DTEND;TZID=America/Chicago:20250110T163000
DTSTAMP:20260420T100703
CREATED:20240715T142224Z
LAST-MODIFIED:20240715T142224Z
UID:10000208-1736496000-1736526600@www.lltc.edu
SUMMARY:Registration for Spring 2025 Closes
DESCRIPTION:
URL:https://www.lltc.edu/event/registration-for-spring-2025-closes/
LOCATION:Leech Lake Tribal College\, 6945 Little Wolf Rd NW\, Cass Lake\, MN\, 56633\, United States
ATTACH;FMTTYPE=image/jpeg:https://www.lltc.edu/wp-content/uploads/2024/07/SITEIMAGE-03.jpg
END:VEVENT
BEGIN:VEVENT
DTSTART;TZID=America/Chicago:20250110T080000
DTEND;TZID=America/Chicago:20250110T163000
DTSTAMP:20260420T100703
CREATED:20240715T135621Z
LAST-MODIFIED:20240715T135621Z
UID:10000204-1736496000-1736526600@www.lltc.edu
SUMMARY:Spring 2025 Student Orientation
DESCRIPTION:
URL:https://www.lltc.edu/event/spring-2025-student-orientation/
LOCATION:Leech Lake Tribal College\, 6945 Little Wolf Rd NW\, Cass Lake\, MN\, 56633\, United States
ATTACH;FMTTYPE=image/jpeg:https://www.lltc.edu/wp-content/uploads/2024/07/SITEIMAGE-01.jpg
END:VEVENT
BEGIN:VEVENT
DTSTART;TZID=America/Chicago:20250103T080000
DTEND;TZID=America/Chicago:20250103T163000
DTSTAMP:20260420T100703
CREATED:20240715T135845Z
LAST-MODIFIED:20240715T135845Z
UID:10000205-1735891200-1735921800@www.lltc.edu
SUMMARY:Last Day to Apply & Submit Paperwork for the Spring 2025 Semester
DESCRIPTION:
URL:https://www.lltc.edu/event/last-day-to-apply-submit-paperwork-for-the-spring-2025-semester/
LOCATION:Leech Lake Tribal College\, 6945 Little Wolf Rd NW\, Cass Lake\, MN\, 56633\, United States
ATTACH;FMTTYPE=image/jpeg:https://www.lltc.edu/wp-content/uploads/2024/07/SITEIMAGE-02.jpg
END:VEVENT
BEGIN:VEVENT
DTSTART;VALUE=DATE:20250101
DTEND;VALUE=DATE:20250102
DTSTAMP:20260420T100703
CREATED:20240715T134552Z
LAST-MODIFIED:20240715T134552Z
UID:10000200-1735689600-1735775999@www.lltc.edu
SUMMARY:New Year's: Campus Closed
DESCRIPTION:
URL:https://www.lltc.edu/event/new-years-campus-closed/
LOCATION:Leech Lake Tribal College\, 6945 Little Wolf Rd NW\, Cass Lake\, MN\, 56633\, United States
END:VEVENT
BEGIN:VEVENT
DTSTART;VALUE=DATE:20241225
DTEND;VALUE=DATE:20241226
DTSTAMP:20260420T100703
CREATED:20240715T134447Z
LAST-MODIFIED:20240715T134447Z
UID:10000199-1735084800-1735171199@www.lltc.edu
SUMMARY:Christmas: Campus Closed
DESCRIPTION:
URL:https://www.lltc.edu/event/christmas-campus-closed/
LOCATION:Leech Lake Tribal College\, 6945 Little Wolf Rd NW\, Cass Lake\, MN\, 56633\, United States
ATTACH;FMTTYPE=image/jpeg:https://www.lltc.edu/wp-content/uploads/2024/07/SITEIMAGE-21.jpg
END:VEVENT
BEGIN:VEVENT
DTSTART;TZID=America/Chicago:20241216T080000
DTEND;TZID=America/Chicago:20250103T170000
DTSTAMP:20260420T100703
CREATED:20240715T134304Z
LAST-MODIFIED:20240715T134304Z
UID:10000198-1734336000-1735923600@www.lltc.edu
SUMMARY:Winter Break
DESCRIPTION:
URL:https://www.lltc.edu/event/winter-break/
LOCATION:Leech Lake Tribal College\, 6945 Little Wolf Rd NW\, Cass Lake\, MN\, 56633\, United States
ATTACH;FMTTYPE=image/jpeg:https://www.lltc.edu/wp-content/uploads/2024/07/SITEIMAGE-20.jpg
END:VEVENT
BEGIN:VEVENT
DTSTART;TZID=America/Chicago:20241209T080000
DTEND;TZID=America/Chicago:20241213T163000
DTSTAMP:20260420T100703
CREATED:20240715T134111Z
LAST-MODIFIED:20240715T134140Z
UID:10000197-1733731200-1734107400@www.lltc.edu
SUMMARY:Fall 2024 Finals
DESCRIPTION:
URL:https://www.lltc.edu/event/fall-2024-finals/
LOCATION:Leech Lake Tribal College\, 6945 Little Wolf Rd NW\, Cass Lake\, MN\, 56633\, United States
ATTACH;FMTTYPE=image/jpeg:https://www.lltc.edu/wp-content/uploads/2024/07/SITEIMAGE-18.jpg
END:VEVENT
BEGIN:VEVENT
DTSTART;TZID=America/Chicago:20241206T080000
DTEND;TZID=America/Chicago:20241206T163000
DTSTAMP:20260420T100703
CREATED:20240715T133949Z
LAST-MODIFIED:20240715T133949Z
UID:10000196-1733472000-1733502600@www.lltc.edu
SUMMARY:Last Day of Fall 2024 Classes
DESCRIPTION:
URL:https://www.lltc.edu/event/last-day-of-fall-2024-classes/
LOCATION:Leech Lake Tribal College\, 6945 Little Wolf Rd NW\, Cass Lake\, MN\, 56633\, United States
ATTACH;FMTTYPE=image/jpeg:https://www.lltc.edu/wp-content/uploads/2024/07/SITEIMAGE-17.jpg
END:VEVENT
BEGIN:VEVENT
DTSTART;VALUE=DATE:20241203
DTEND;VALUE=DATE:20241204
DTSTAMP:20260420T100703
CREATED:20241114T185958Z
LAST-MODIFIED:20241114T185958Z
UID:10000385-1733184000-1733270399@www.lltc.edu
SUMMARY:LLTC's 2024 Giving Tuesday Fundraiser
DESCRIPTION:Stay tuned for more information on our Silent Auction\, Pick-a-Prize Raffle\, Taco Sale\, and Bake Sale.
URL:https://www.lltc.edu/event/lltcs-2024-giving-tuesday-fundraiser/
LOCATION:Leech Lake Tribal College\, 6945 Little Wolf Rd NW\, Cass Lake\, MN\, 56633\, United States
END:VEVENT
BEGIN:VEVENT
DTSTART;TZID=America/Chicago:20241128T080000
DTEND;TZID=America/Chicago:20241129T163000
DTSTAMP:20260420T100703
CREATED:20240715T133609Z
LAST-MODIFIED:20240715T133609Z
UID:10000195-1732780800-1732897800@www.lltc.edu
SUMMARY:Thanksgiving: Campus Closed
DESCRIPTION:
URL:https://www.lltc.edu/event/thanksgiving-campus-closed/
LOCATION:Leech Lake Tribal College\, 6945 Little Wolf Rd NW\, Cass Lake\, MN\, 56633\, United States
ATTACH;FMTTYPE=image/jpeg:https://www.lltc.edu/wp-content/uploads/2024/07/SITEIMAGE-16.jpg
END:VEVENT
BEGIN:VEVENT
DTSTART;TZID=America/Chicago:20241118T130000
DTEND;TZID=America/Chicago:20241118T140000
DTSTAMP:20260420T100703
CREATED:20241114T185047Z
LAST-MODIFIED:20241114T185047Z
UID:10000384-1731934800-1731938400@www.lltc.edu
SUMMARY:Fulbright Learning Event
DESCRIPTION:All are welcome to come and learn the many opportunities through the Fulbright Association.
URL:https://www.lltc.edu/event/fulbright-learning-event/
LOCATION:Leech Lake Tribal College\, 6945 Little Wolf Rd NW\, Cass Lake\, MN\, 56633\, United States
ATTACH;FMTTYPE=image/jpeg:https://www.lltc.edu/wp-content/uploads/2024/11/LLTC_MNFulbright.jpg
END:VEVENT
BEGIN:VEVENT
DTSTART;VALUE=DATE:20241111
DTEND;VALUE=DATE:20241112
DTSTAMP:20260420T100703
CREATED:20240715T133237Z
LAST-MODIFIED:20240715T133237Z
UID:10000194-1731283200-1731369599@www.lltc.edu
SUMMARY:Veteran's Day: Campus Closed
DESCRIPTION:
URL:https://www.lltc.edu/event/veterans-day-campus-closed/
LOCATION:Leech Lake Tribal College\, 6945 Little Wolf Rd NW\, Cass Lake\, MN\, 56633\, United States
ATTACH;FMTTYPE=image/jpeg:https://www.lltc.edu/wp-content/uploads/2024/07/SITEIMAGE-15.jpg
END:VEVENT
BEGIN:VEVENT
DTSTART;TZID=America/Chicago:20241025T160000
DTEND;TZID=America/Chicago:20241025T190000
DTSTAMP:20260420T100703
CREATED:20240924T124607Z
LAST-MODIFIED:20240924T124607Z
UID:10000243-1729872000-1729882800@www.lltc.edu
SUMMARY:Halloween Carnival 2024
DESCRIPTION:We are excited to announce our annual Halloween Carnival on October 25th from 4-7pm! We have lots of fun activities such as Trick-r-Treating\, Haunted Trail\, Games\, Prizes\, and Food! Come find your place at this free event\, open to all ages!!\n\n\n\nIf you are interested in volunteering or setting up a trick-r-treat booth\, contact events@lltc.edu
URL:https://www.lltc.edu/event/halloween-carnival-2024/
LOCATION:Leech Lake Tribal College\, 6945 Little Wolf Rd NW\, Cass Lake\, MN\, 56633\, United States
END:VEVENT
BEGIN:VEVENT
DTSTART;TZID=America/Chicago:20241025T080000
DTEND;TZID=America/Chicago:20241025T120000
DTSTAMP:20260420T100703
CREATED:20240715T133001Z
LAST-MODIFIED:20240715T133030Z
UID:10000193-1729843200-1729857600@www.lltc.edu
SUMMARY:Last Day to Withdraw from the Fall 2024 Semester
DESCRIPTION:
URL:https://www.lltc.edu/event/last-day-to-withdraw-from-the-fall-2024-semester/
LOCATION:Leech Lake Tribal College\, 6945 Little Wolf Rd NW\, Cass Lake\, MN\, 56633\, United States
ATTACH;FMTTYPE=image/jpeg:https://www.lltc.edu/wp-content/uploads/2024/07/SITEIMAGE-14.jpg
END:VEVENT
BEGIN:VEVENT
DTSTART;TZID=America/Chicago:20241021T080000
DTEND;TZID=America/Chicago:20241025T163000
DTSTAMP:20260420T100703
CREATED:20240715T132512Z
LAST-MODIFIED:20240715T132512Z
UID:10000191-1729497600-1729873800@www.lltc.edu
SUMMARY:Advising Week
DESCRIPTION:
URL:https://www.lltc.edu/event/advising-week-2/
LOCATION:Leech Lake Tribal College\, 6945 Little Wolf Rd NW\, Cass Lake\, MN\, 56633\, United States
ATTACH;FMTTYPE=image/jpeg:https://www.lltc.edu/wp-content/uploads/2024/07/SITEIMAGE-12.jpg
END:VEVENT
BEGIN:VEVENT
DTSTART;VALUE=DATE:20241021
DTEND;VALUE=DATE:20241022
DTSTAMP:20260420T100703
CREATED:20240715T132833Z
LAST-MODIFIED:20240715T132833Z
UID:10000192-1729468800-1729555199@www.lltc.edu
SUMMARY:Registration for Spring 2025 Begins
DESCRIPTION:
URL:https://www.lltc.edu/event/registration-for-spring-2025-begins/
LOCATION:Leech Lake Tribal College\, 6945 Little Wolf Rd NW\, Cass Lake\, MN\, 56633\, United States
ATTACH;FMTTYPE=image/jpeg:https://www.lltc.edu/wp-content/uploads/2024/07/SITEIMAGE-13.jpg
END:VEVENT
BEGIN:VEVENT
DTSTART;VALUE=DATE:20241014
DTEND;VALUE=DATE:20241015
DTSTAMP:20260420T100703
CREATED:20240715T131938Z
LAST-MODIFIED:20240715T132008Z
UID:10000189-1728864000-1728950399@www.lltc.edu
SUMMARY:Indigenous People's Day: Campus Closed
DESCRIPTION:
URL:https://www.lltc.edu/event/indigenous-peoples-day-campus-closed/
LOCATION:Leech Lake Tribal College\, 6945 Little Wolf Rd NW\, Cass Lake\, MN\, 56633\, United States
ATTACH;FMTTYPE=image/jpeg:https://www.lltc.edu/wp-content/uploads/2024/07/SITEIMAGE-10.jpg
END:VEVENT
BEGIN:VEVENT
DTSTART;TZID=America/Chicago:20241007T080000
DTEND;TZID=America/Chicago:20241011T163000
DTSTAMP:20260420T100703
CREATED:20240715T125545Z
LAST-MODIFIED:20240715T125545Z
UID:10000187-1728288000-1728664200@www.lltc.edu
SUMMARY:Fall 2024 Mid-terms
DESCRIPTION:
URL:https://www.lltc.edu/event/fall-2024-mid-terms/
LOCATION:Leech Lake Tribal College\, 6945 Little Wolf Rd NW\, Cass Lake\, MN\, 56633\, United States
ATTACH;FMTTYPE=image/jpeg:https://www.lltc.edu/wp-content/uploads/2024/07/SITEIMAGE-08.jpg
END:VEVENT
BEGIN:VEVENT
DTSTART;VALUE=DATE:20241004
DTEND;VALUE=DATE:20241005
DTSTAMP:20260420T100703
CREATED:20240715T131710Z
LAST-MODIFIED:20240715T132043Z
UID:10000188-1728000000-1728086399@www.lltc.edu
SUMMARY:Battle of Sugar Point: Campus Closed
DESCRIPTION:
URL:https://www.lltc.edu/event/battle-of-sugar-point-campus-closed/
LOCATION:Leech Lake Tribal College\, 6945 Little Wolf Rd NW\, Cass Lake\, MN\, 56633\, United States
ATTACH;FMTTYPE=image/jpeg:https://www.lltc.edu/wp-content/uploads/2024/07/SITEIMAGE-09.jpg
END:VEVENT
BEGIN:VEVENT
DTSTART;TZID=America/Chicago:20240906T080000
DTEND;TZID=America/Chicago:20240906T163000
DTSTAMP:20260420T100703
CREATED:20240715T125330Z
LAST-MODIFIED:20240715T125330Z
UID:10000186-1725609600-1725640200@www.lltc.edu
SUMMARY:Last Day to Drop Classes for Fall 2024
DESCRIPTION:
URL:https://www.lltc.edu/event/last-day-to-drop-classes-for-fall-2024/
LOCATION:Leech Lake Tribal College\, 6945 Little Wolf Rd NW\, Cass Lake\, MN\, 56633\, United States
ATTACH;FMTTYPE=image/jpeg:https://www.lltc.edu/wp-content/uploads/2024/07/SITEIMAGE-07.jpg
END:VEVENT
BEGIN:VEVENT
DTSTART;VALUE=DATE:20240902
DTEND;VALUE=DATE:20240903
DTSTAMP:20260420T100703
CREATED:20240715T124637Z
LAST-MODIFIED:20240715T132122Z
UID:10000184-1725235200-1725321599@www.lltc.edu
SUMMARY:Labor Day: Campus Closed
DESCRIPTION:
URL:https://www.lltc.edu/event/labor-day-campus-closed/
LOCATION:Leech Lake Tribal College\, 6945 Little Wolf Rd NW\, Cass Lake\, MN\, 56633\, United States
ATTACH;FMTTYPE=image/jpeg:https://www.lltc.edu/wp-content/uploads/2024/07/SITEIMAGE-05.jpg
END:VEVENT
BEGIN:VEVENT
DTSTART;TZID=America/Chicago:20240830T080000
DTEND;TZID=America/Chicago:20240830T163000
DTSTAMP:20260420T100703
CREATED:20240715T125053Z
LAST-MODIFIED:20240715T125053Z
UID:10000185-1725004800-1725035400@www.lltc.edu
SUMMARY:Last Day to Add Classes for Fall 2024
DESCRIPTION:
URL:https://www.lltc.edu/event/last-day-to-add-classes-for-fall-2024/
LOCATION:Leech Lake Tribal College\, 6945 Little Wolf Rd NW\, Cass Lake\, MN\, 56633\, United States
ATTACH;FMTTYPE=image/jpeg:https://www.lltc.edu/wp-content/uploads/2024/07/SITEIMAGE-06.jpg
END:VEVENT
BEGIN:VEVENT
DTSTART;TZID=America/Chicago:20240826T080000
DTEND;TZID=America/Chicago:20240826T163000
DTSTAMP:20260420T100703
CREATED:20240715T124421Z
LAST-MODIFIED:20240715T124421Z
UID:10000183-1724659200-1724689800@www.lltc.edu
SUMMARY:First Day of Classes for Fall 2024
DESCRIPTION:
URL:https://www.lltc.edu/event/first-day-of-classes-for-fall-2024/
LOCATION:Leech Lake Tribal College\, 6945 Little Wolf Rd NW\, Cass Lake\, MN\, 56633\, United States
ATTACH;FMTTYPE=image/jpeg:https://www.lltc.edu/wp-content/uploads/2024/07/SITEIMAGE-04.jpg
END:VEVENT
END:VCALENDAR