BEGIN:VCALENDAR
VERSION:2.0
PRODID:-//Leech Lake Tribal College - ECPv6.15.20//NONSGML v1.0//EN
CALSCALE:GREGORIAN
METHOD:PUBLISH
X-WR-CALNAME:Leech Lake Tribal College
X-ORIGINAL-URL:https://www.lltc.edu
X-WR-CALDESC:Events for Leech Lake Tribal College
REFRESH-INTERVAL;VALUE=DURATION:PT1H
X-Robots-Tag:noindex
X-PUBLISHED-TTL:PT1H
BEGIN:VTIMEZONE
TZID:America/Chicago
BEGIN:DAYLIGHT
TZOFFSETFROM:-0600
TZOFFSETTO:-0500
TZNAME:CDT
DTSTART:20240310T080000
END:DAYLIGHT
BEGIN:STANDARD
TZOFFSETFROM:-0500
TZOFFSETTO:-0600
TZNAME:CST
DTSTART:20241103T070000
END:STANDARD
BEGIN:DAYLIGHT
TZOFFSETFROM:-0600
TZOFFSETTO:-0500
TZNAME:CDT
DTSTART:20250309T080000
END:DAYLIGHT
BEGIN:STANDARD
TZOFFSETFROM:-0500
TZOFFSETTO:-0600
TZNAME:CST
DTSTART:20251102T070000
END:STANDARD
BEGIN:DAYLIGHT
TZOFFSETFROM:-0600
TZOFFSETTO:-0500
TZNAME:CDT
DTSTART:20260308T080000
END:DAYLIGHT
BEGIN:STANDARD
TZOFFSETFROM:-0500
TZOFFSETTO:-0600
TZNAME:CST
DTSTART:20261101T070000
END:STANDARD
END:VTIMEZONE
BEGIN:VTIMEZONE
TZID:America/Chicago
BEGIN:DAYLIGHT
TZOFFSETFROM:-0600
TZOFFSETTO:-0500
TZNAME:CDT
DTSTART:20240310T080000
END:DAYLIGHT
BEGIN:STANDARD
TZOFFSETFROM:-0500
TZOFFSETTO:-0600
TZNAME:CST
DTSTART:20241103T070000
END:STANDARD
BEGIN:DAYLIGHT
TZOFFSETFROM:-0600
TZOFFSETTO:-0500
TZNAME:CDT
DTSTART:20250309T080000
END:DAYLIGHT
BEGIN:STANDARD
TZOFFSETFROM:-0500
TZOFFSETTO:-0600
TZNAME:CST
DTSTART:20251102T070000
END:STANDARD
BEGIN:DAYLIGHT
TZOFFSETFROM:-0600
TZOFFSETTO:-0500
TZNAME:CDT
DTSTART:20260308T080000
END:DAYLIGHT
BEGIN:STANDARD
TZOFFSETFROM:-0500
TZOFFSETTO:-0600
TZNAME:CST
DTSTART:20261101T070000
END:STANDARD
END:VTIMEZONE
BEGIN:VEVENT
DTSTART;TZID=America/Chicago:20250821T080000
DTEND;TZID=America/Chicago:20250821T170000
DTSTAMP:20260420T070228
CREATED:20250611T181542Z
LAST-MODIFIED:20250611T181542Z
UID:10000504-1755763200-1755795600@www.lltc.edu
SUMMARY:Registration Closes for Fall Semester
DESCRIPTION:
URL:https://www.lltc.edu/event/registration-closes-for-fall-semester/
LOCATION:Leech Lake Tribal College\, 6945 Little Wolf Rd NW\, Cass Lake\, MN\, 56633\, United States
CATEGORIES:Academic Calendar
END:VEVENT
BEGIN:VEVENT
DTSTART;TZID=America/Chicago:20250818T080000
DTEND;TZID=America/Chicago:20250822T160000
DTSTAMP:20260420T070228
CREATED:20250611T174633Z
LAST-MODIFIED:20250611T174715Z
UID:10000494-1755504000-1755878400@www.lltc.edu
SUMMARY:Faculty In Service and Duty Days
DESCRIPTION:
URL:https://www.lltc.edu/event/faculty-in-service/
LOCATION:Leech Lake Tribal College\, 6945 Little Wolf Rd NW\, Cass Lake\, MN\, 56633\, United States
CATEGORIES:Academic Calendar
END:VEVENT
BEGIN:VEVENT
DTSTART;TZID=America/Chicago:20250728T180000
DTEND;TZID=America/Chicago:20250728T200000
DTSTAMP:20260420T070228
CREATED:20250603T182909Z
LAST-MODIFIED:20250603T182909Z
UID:10000469-1753725600-1753732800@www.lltc.edu
SUMMARY:2025 Board of Trustees Meetings - July
DESCRIPTION:
URL:https://www.lltc.edu/event/2025-board-of-trustees-meetings-july/
LOCATION:Leech Lake Tribal College\, 6945 Little Wolf Rd NW\, Cass Lake\, MN\, 56633\, United States
CATEGORIES:Board of Trustees Events
END:VEVENT
BEGIN:VEVENT
DTSTART;TZID=America/Chicago:20250728T180000
DTEND;TZID=America/Chicago:20250728T200000
DTSTAMP:20260420T070228
CREATED:20250603T182747Z
LAST-MODIFIED:20250610T163103Z
UID:10000482-1753725600-1753732800@www.lltc.edu
SUMMARY:2025 Board of Trustees Meetings
DESCRIPTION:
URL:https://www.lltc.edu/event/2025-board-of-trustees-meetings-june/2025-07-28/
LOCATION:Leech Lake Tribal College\, 6945 Little Wolf Rd NW\, Cass Lake\, MN\, 56633\, United States
CATEGORIES:Board of Trustees Events
END:VEVENT
BEGIN:VEVENT
DTSTART;TZID=America/Chicago:20250703T080000
DTEND;TZID=America/Chicago:20250703T163000
DTSTAMP:20260420T070228
CREATED:20240715T151731Z
LAST-MODIFIED:20240715T151731Z
UID:10000229-1751529600-1751560200@www.lltc.edu
SUMMARY:Summer Session Ends
DESCRIPTION:
URL:https://www.lltc.edu/event/summer-session-ends-2/
LOCATION:Leech Lake Tribal College\, 6945 Little Wolf Rd NW\, Cass Lake\, MN\, 56633\, United States
ATTACH;FMTTYPE=image/jpeg:https://www.lltc.edu/wp-content/uploads/2024/07/SITEIMAGE-35.jpg
END:VEVENT
BEGIN:VEVENT
DTSTART;TZID=America/Chicago:20250630T180000
DTEND;TZID=America/Chicago:20250630T200000
DTSTAMP:20260420T070228
CREATED:20250603T182747Z
LAST-MODIFIED:20250610T163103Z
UID:10000468-1751306400-1751313600@www.lltc.edu
SUMMARY:2025 Board of Trustees Meetings
DESCRIPTION:
URL:https://www.lltc.edu/event/2025-board-of-trustees-meetings-june/2025-06-30/
LOCATION:Leech Lake Tribal College\, 6945 Little Wolf Rd NW\, Cass Lake\, MN\, 56633\, United States
CATEGORIES:Board of Trustees Events
END:VEVENT
BEGIN:VEVENT
DTSTART;TZID=America/Chicago:20250609T080000
DTEND;TZID=America/Chicago:20250609T163000
DTSTAMP:20260420T070228
CREATED:20240715T151602Z
LAST-MODIFIED:20240715T151602Z
UID:10000228-1749456000-1749486600@www.lltc.edu
SUMMARY:Spring 2025 Incompletes Due
DESCRIPTION:
URL:https://www.lltc.edu/event/spring-2025-incompletes-due/
LOCATION:Leech Lake Tribal College\, 6945 Little Wolf Rd NW\, Cass Lake\, MN\, 56633\, United States
ATTACH;FMTTYPE=image/jpeg:https://www.lltc.edu/wp-content/uploads/2024/07/SITEIMAGE-34.jpg
END:VEVENT
BEGIN:VEVENT
DTSTART;VALUE=DATE:20250526
DTEND;VALUE=DATE:20250527
DTSTAMP:20260420T070228
CREATED:20250515T225153Z
LAST-MODIFIED:20250515T225153Z
UID:10000467-1748217600-1748303999@www.lltc.edu
SUMMARY:Campus Closed
DESCRIPTION:
URL:https://www.lltc.edu/event/campus-closed/
LOCATION:Leech Lake Tribal College\, 6945 Little Wolf Rd NW\, Cass Lake\, MN\, 56633\, United States
END:VEVENT
BEGIN:VEVENT
DTSTART;TZID=America/Chicago:20250519T080000
DTEND;TZID=America/Chicago:20250519T163000
DTSTAMP:20260420T070228
CREATED:20240715T151446Z
LAST-MODIFIED:20240715T151446Z
UID:10000227-1747641600-1747672200@www.lltc.edu
SUMMARY:Summer 2025 Classes Begin
DESCRIPTION:
URL:https://www.lltc.edu/event/summer-2025-classes-begin/
LOCATION:Leech Lake Tribal College\, 6945 Little Wolf Rd NW\, Cass Lake\, MN\, 56633\, United States
ATTACH;FMTTYPE=image/jpeg:https://www.lltc.edu/wp-content/uploads/2024/07/SITEIMAGE-33.jpg
END:VEVENT
BEGIN:VEVENT
DTSTART;TZID=America/Chicago:20250505T080000
DTEND;TZID=America/Chicago:20250509T163000
DTSTAMP:20260420T070228
CREATED:20240715T150707Z
LAST-MODIFIED:20240715T150707Z
UID:10000223-1746432000-1746808200@www.lltc.edu
SUMMARY:Spring 2025 Finals
DESCRIPTION:
URL:https://www.lltc.edu/event/spring-2025-finals/
LOCATION:Leech Lake Tribal College\, 6945 Little Wolf Rd NW\, Cass Lake\, MN\, 56633\, United States
ATTACH;FMTTYPE=image/jpeg:https://www.lltc.edu/wp-content/uploads/2024/07/SITEIMAGE-18.jpg
END:VEVENT
BEGIN:VEVENT
DTSTART;TZID=America/Chicago:20250502T080000
DTEND;TZID=America/Chicago:20250502T163000
DTSTAMP:20260420T070228
CREATED:20240715T150407Z
LAST-MODIFIED:20240715T150535Z
UID:10000222-1746172800-1746203400@www.lltc.edu
SUMMARY:Last Day of Spring 2025 Classes
DESCRIPTION:
URL:https://www.lltc.edu/event/last-day-of-spring-2025-classes/
LOCATION:Leech Lake Tribal College\, 6945 Little Wolf Rd NW\, Cass Lake\, MN\, 56633\, United States
ATTACH;FMTTYPE=image/jpeg:https://www.lltc.edu/wp-content/uploads/2024/07/SITEIMAGE-17.jpg
END:VEVENT
BEGIN:VEVENT
DTSTART;TZID=America/Chicago:20250428T080000
DTEND;TZID=America/Chicago:20250429T170000
DTSTAMP:20260420T070228
CREATED:20240715T151845Z
LAST-MODIFIED:20240715T151845Z
UID:10000230-1745827200-1745946000@www.lltc.edu
SUMMARY:Higher Learning Commission Site Visit
DESCRIPTION:
URL:https://www.lltc.edu/event/higher-learning-commission-site-visit/
LOCATION:Leech Lake Tribal College\, 6945 Little Wolf Rd NW\, Cass Lake\, MN\, 56633\, United States
ATTACH;FMTTYPE=image/jpeg:https://www.lltc.edu/wp-content/uploads/2024/07/SITEIMAGE-36.jpg
END:VEVENT
BEGIN:VEVENT
DTSTART;VALUE=DATE:20250418
DTEND;VALUE=DATE:20250419
DTSTAMP:20260420T070228
CREATED:20240715T150238Z
LAST-MODIFIED:20240715T150238Z
UID:10000221-1744934400-1745020799@www.lltc.edu
SUMMARY:Easter/Good Friday: Campus Closed
DESCRIPTION:
URL:https://www.lltc.edu/event/easter-good-friday-campus-closed/
LOCATION:Leech Lake Tribal College\, 6945 Little Wolf Rd NW\, Cass Lake\, MN\, 56633\, United States
END:VEVENT
BEGIN:VEVENT
DTSTART;TZID=America/Chicago:20250327T080000
DTEND;TZID=America/Chicago:20250327T163000
DTSTAMP:20260420T070228
CREATED:20250129T203907Z
LAST-MODIFIED:20250129T203930Z
UID:10000391-1743062400-1743093000@www.lltc.edu
SUMMARY:5th Annual Funding our Future Leaders Fundraiser
DESCRIPTION:LLTC is excited to announce our 5th Annual Funding Our Future Leaders’ Fundraiser this March\, we will have Pick-a-Prize Raffle\, Bingo\, Frybread Taco Sale\, and our popular Silent Auction!If you are interested in donating items for the Silent Auction\, please email events@lltc.edu. For information on how to support LLTC\, Endowment\, or Scholarships contact Ryan White at 218.335.4229 or email ryan.white@lltc.edu
URL:https://www.lltc.edu/event/5th-annual-funding-our-future-leaders-fundraiser/
LOCATION:Leech Lake Tribal College\, 6945 Little Wolf Rd NW\, Cass Lake\, MN\, 56633\, United States
CATEGORIES:Community Events
ATTACH;FMTTYPE=image/jpeg:https://www.lltc.edu/wp-content/uploads/2025/01/474856472_1068864861923152_7296298127922618519_n.jpg
END:VEVENT
BEGIN:VEVENT
DTSTART;TZID=America/Chicago:20250321T080000
DTEND;TZID=America/Chicago:20250321T160000
DTSTAMP:20260420T070228
CREATED:20240715T145957Z
LAST-MODIFIED:20240715T145957Z
UID:10000220-1742544000-1742572800@www.lltc.edu
SUMMARY:Last Day to Withdraw
DESCRIPTION:
URL:https://www.lltc.edu/event/last-day-to-withdraw-3/
LOCATION:Leech Lake Tribal College\, 6945 Little Wolf Rd NW\, Cass Lake\, MN\, 56633\, United States
ATTACH;FMTTYPE=image/jpeg:https://www.lltc.edu/wp-content/uploads/2024/07/SITEIMAGE-14.jpg
END:VEVENT
BEGIN:VEVENT
DTSTART;TZID=America/Chicago:20250317T080000
DTEND;TZID=America/Chicago:20250321T163000
DTSTAMP:20260420T070228
CREATED:20240715T145447Z
LAST-MODIFIED:20240715T145447Z
UID:10000218-1742198400-1742574600@www.lltc.edu
SUMMARY:Advising Week
DESCRIPTION:
URL:https://www.lltc.edu/event/advising-week-3/
LOCATION:Leech Lake Tribal College\, 6945 Little Wolf Rd NW\, Cass Lake\, MN\, 56633\, United States
ATTACH;FMTTYPE=image/jpeg:https://www.lltc.edu/wp-content/uploads/2024/07/SITEIMAGE-12.jpg
END:VEVENT
BEGIN:VEVENT
DTSTART;TZID=America/Chicago:20250317T080000
DTEND;TZID=America/Chicago:20250317T163000
DTSTAMP:20260420T070228
CREATED:20240715T145618Z
LAST-MODIFIED:20240715T145800Z
UID:10000219-1742198400-1742229000@www.lltc.edu
SUMMARY:Registration Opens for Fall & Summer
DESCRIPTION:
URL:https://www.lltc.edu/event/registration-opens-for-fall-summer/
LOCATION:Leech Lake Tribal College\, 6945 Little Wolf Rd NW\, Cass Lake\, MN\, 56633\, United States
ATTACH;FMTTYPE=image/jpeg:https://www.lltc.edu/wp-content/uploads/2024/07/SITEIMAGE-30.jpg
END:VEVENT
BEGIN:VEVENT
DTSTART;TZID=America/Chicago:20250310T080000
DTEND;TZID=America/Chicago:20250314T163000
DTSTAMP:20260420T070228
CREATED:20240715T144917Z
LAST-MODIFIED:20240715T145205Z
UID:10000216-1741593600-1741969800@www.lltc.edu
SUMMARY:Spring Break
DESCRIPTION:
URL:https://www.lltc.edu/event/spring-break/
LOCATION:Leech Lake Tribal College\, 6945 Little Wolf Rd NW\, Cass Lake\, MN\, 56633\, United States
ATTACH;FMTTYPE=image/jpeg:https://www.lltc.edu/wp-content/uploads/2024/07/SITEIMAGE-29.jpg
END:VEVENT
BEGIN:VEVENT
DTSTART;TZID=America/Chicago:20250307T080000
DTEND;TZID=America/Chicago:20250311T170000
DTSTAMP:20260420T070228
CREATED:20240715T145109Z
LAST-MODIFIED:20250304T213520Z
UID:10000217-1741334400-1741712400@www.lltc.edu
SUMMARY:AIHEC 2025
DESCRIPTION:Bus Leaves at 8:30am March 7th
URL:https://www.lltc.edu/event/aihec-2025/
LOCATION:Leech Lake Tribal College\, 6945 Little Wolf Rd NW\, Cass Lake\, MN\, 56633\, United States
ATTACH;FMTTYPE=image/jpeg:https://www.lltc.edu/wp-content/uploads/2024/07/SITEIMAGE-28.jpg
END:VEVENT
BEGIN:VEVENT
DTSTART;TZID=America/Chicago:20250224T080000
DTEND;TZID=America/Chicago:20250228T163000
DTSTAMP:20260420T070228
CREATED:20240715T143653Z
LAST-MODIFIED:20240715T143653Z
UID:10000214-1740384000-1740760200@www.lltc.edu
SUMMARY:Spring 2025 Mid-terms
DESCRIPTION:
URL:https://www.lltc.edu/event/spring-2025-mid-terms/
LOCATION:Leech Lake Tribal College\, 6945 Little Wolf Rd NW\, Cass Lake\, MN\, 56633\, United States
ATTACH;FMTTYPE=image/jpeg:https://www.lltc.edu/wp-content/uploads/2024/07/SITEIMAGE-08.jpg
END:VEVENT
BEGIN:VEVENT
DTSTART;VALUE=DATE:20250217
DTEND;VALUE=DATE:20250218
DTSTAMP:20260420T070228
CREATED:20240715T143457Z
LAST-MODIFIED:20240715T143457Z
UID:10000213-1739750400-1739836799@www.lltc.edu
SUMMARY:President's Day: Campus Closed
DESCRIPTION:
URL:https://www.lltc.edu/event/presidents-day-campus-closed/
LOCATION:Leech Lake Tribal College\, 6945 Little Wolf Rd NW\, Cass Lake\, MN\, 56633\, United States
ATTACH;FMTTYPE=image/jpeg:https://www.lltc.edu/wp-content/uploads/2024/07/SITEIMAGE-27.jpg
END:VEVENT
BEGIN:VEVENT
DTSTART;TZID=America/Chicago:20250127T080000
DTEND;TZID=America/Chicago:20250127T163000
DTSTAMP:20260420T070228
CREATED:20240715T143130Z
LAST-MODIFIED:20240715T143211Z
UID:10000212-1737964800-1737995400@www.lltc.edu
SUMMARY:Fall 2024 Incompletes Due
DESCRIPTION:
URL:https://www.lltc.edu/event/fall-2024-incompletes-due/
LOCATION:Leech Lake Tribal College\, 6945 Little Wolf Rd NW\, Cass Lake\, MN\, 56633\, United States
END:VEVENT
BEGIN:VEVENT
DTSTART;TZID=America/Chicago:20250124T080000
DTEND;TZID=America/Chicago:20250124T163000
DTSTAMP:20260420T070228
CREATED:20240715T143054Z
LAST-MODIFIED:20250122T161710Z
UID:10000211-1737705600-1737736200@www.lltc.edu
SUMMARY:Graduation Applications Due
DESCRIPTION:
URL:https://www.lltc.edu/event/graduation-applications-due-2/
LOCATION:Leech Lake Tribal College\, 6945 Little Wolf Rd NW\, Cass Lake\, MN\, 56633\, United States
ATTACH;FMTTYPE=image/jpeg:https://www.lltc.edu/wp-content/uploads/2024/07/SITEIMAGE-25.jpg
END:VEVENT
BEGIN:VEVENT
DTSTART;TZID=America/Chicago:20250124T080000
DTEND;TZID=America/Chicago:20250124T163000
DTSTAMP:20260420T070228
CREATED:20240715T142807Z
LAST-MODIFIED:20240715T142807Z
UID:10000210-1737705600-1737736200@www.lltc.edu
SUMMARY:Last Day to Drop a Class for the Spring 2025 Semester
DESCRIPTION:
URL:https://www.lltc.edu/event/last-day-to-drop-a-class-for-the-spring-2025-semester/
LOCATION:Leech Lake Tribal College\, 6945 Little Wolf Rd NW\, Cass Lake\, MN\, 56633\, United States
ATTACH;FMTTYPE=image/jpeg:https://www.lltc.edu/wp-content/uploads/2024/07/SITEIMAGE-07.jpg
END:VEVENT
BEGIN:VEVENT
DTSTART;VALUE=DATE:20250120
DTEND;VALUE=DATE:20250121
DTSTAMP:20260420T070228
CREATED:20240715T141759Z
LAST-MODIFIED:20240715T142033Z
UID:10000207-1737331200-1737417599@www.lltc.edu
SUMMARY:Martin Luther King Day: Campus Closed
DESCRIPTION:
URL:https://www.lltc.edu/event/martin-luther-king-day-campus-closed/
LOCATION:Leech Lake Tribal College\, 6945 Little Wolf Rd NW\, Cass Lake\, MN\, 56633\, United States
ATTACH;FMTTYPE=image/jpeg:https://www.lltc.edu/wp-content/uploads/2024/07/SITEIMAGE-24.jpg
END:VEVENT
BEGIN:VEVENT
DTSTART;TZID=America/Chicago:20250117T080000
DTEND;TZID=America/Chicago:20250117T163000
DTSTAMP:20260420T070228
CREATED:20240715T142400Z
LAST-MODIFIED:20240715T142646Z
UID:10000209-1737100800-1737131400@www.lltc.edu
SUMMARY:Last Day to Add a Class for the Spring 2025 Semester
DESCRIPTION:
URL:https://www.lltc.edu/event/last-day-to-add-a-class-for-the-spring-2025-semester/
LOCATION:Leech Lake Tribal College\, 6945 Little Wolf Rd NW\, Cass Lake\, MN\, 56633\, United States
ATTACH;FMTTYPE=image/jpeg:https://www.lltc.edu/wp-content/uploads/2024/07/SITEIMAGE-06.jpg
END:VEVENT
BEGIN:VEVENT
DTSTART;TZID=America/Chicago:20250113T080000
DTEND;TZID=America/Chicago:20250113T163000
DTSTAMP:20260420T070228
CREATED:20240715T140016Z
LAST-MODIFIED:20240715T140016Z
UID:10000206-1736755200-1736785800@www.lltc.edu
SUMMARY:First Day of Spring 2025 Classes
DESCRIPTION:
URL:https://www.lltc.edu/event/first-day-of-spring-2025-classes/
LOCATION:Leech Lake Tribal College\, 6945 Little Wolf Rd NW\, Cass Lake\, MN\, 56633\, United States
ATTACH;FMTTYPE=image/jpeg:https://www.lltc.edu/wp-content/uploads/2024/07/SITEIMAGE-04.jpg
END:VEVENT
BEGIN:VEVENT
DTSTART;TZID=America/Chicago:20250110T080000
DTEND;TZID=America/Chicago:20250110T163000
DTSTAMP:20260420T070228
CREATED:20240715T142224Z
LAST-MODIFIED:20240715T142224Z
UID:10000208-1736496000-1736526600@www.lltc.edu
SUMMARY:Registration for Spring 2025 Closes
DESCRIPTION:
URL:https://www.lltc.edu/event/registration-for-spring-2025-closes/
LOCATION:Leech Lake Tribal College\, 6945 Little Wolf Rd NW\, Cass Lake\, MN\, 56633\, United States
ATTACH;FMTTYPE=image/jpeg:https://www.lltc.edu/wp-content/uploads/2024/07/SITEIMAGE-03.jpg
END:VEVENT
BEGIN:VEVENT
DTSTART;TZID=America/Chicago:20250110T080000
DTEND;TZID=America/Chicago:20250110T163000
DTSTAMP:20260420T070228
CREATED:20240715T135621Z
LAST-MODIFIED:20240715T135621Z
UID:10000204-1736496000-1736526600@www.lltc.edu
SUMMARY:Spring 2025 Student Orientation
DESCRIPTION:
URL:https://www.lltc.edu/event/spring-2025-student-orientation/
LOCATION:Leech Lake Tribal College\, 6945 Little Wolf Rd NW\, Cass Lake\, MN\, 56633\, United States
ATTACH;FMTTYPE=image/jpeg:https://www.lltc.edu/wp-content/uploads/2024/07/SITEIMAGE-01.jpg
END:VEVENT
BEGIN:VEVENT
DTSTART;TZID=America/Chicago:20250103T080000
DTEND;TZID=America/Chicago:20250103T163000
DTSTAMP:20260420T070228
CREATED:20240715T135845Z
LAST-MODIFIED:20240715T135845Z
UID:10000205-1735891200-1735921800@www.lltc.edu
SUMMARY:Last Day to Apply & Submit Paperwork for the Spring 2025 Semester
DESCRIPTION:
URL:https://www.lltc.edu/event/last-day-to-apply-submit-paperwork-for-the-spring-2025-semester/
LOCATION:Leech Lake Tribal College\, 6945 Little Wolf Rd NW\, Cass Lake\, MN\, 56633\, United States
ATTACH;FMTTYPE=image/jpeg:https://www.lltc.edu/wp-content/uploads/2024/07/SITEIMAGE-02.jpg
END:VEVENT
END:VCALENDAR