BEGIN:VCALENDAR
VERSION:2.0
PRODID:-//Leech Lake Tribal College - ECPv6.15.20//NONSGML v1.0//EN
CALSCALE:GREGORIAN
METHOD:PUBLISH
X-ORIGINAL-URL:https://www.lltc.edu
X-WR-CALDESC:Events for Leech Lake Tribal College
REFRESH-INTERVAL;VALUE=DURATION:PT1H
X-Robots-Tag:noindex
X-PUBLISHED-TTL:PT1H
BEGIN:VTIMEZONE
TZID:America/Chicago
BEGIN:DAYLIGHT
TZOFFSETFROM:-0600
TZOFFSETTO:-0500
TZNAME:CDT
DTSTART:20230312T080000
END:DAYLIGHT
BEGIN:STANDARD
TZOFFSETFROM:-0500
TZOFFSETTO:-0600
TZNAME:CST
DTSTART:20231105T070000
END:STANDARD
BEGIN:DAYLIGHT
TZOFFSETFROM:-0600
TZOFFSETTO:-0500
TZNAME:CDT
DTSTART:20240310T080000
END:DAYLIGHT
BEGIN:STANDARD
TZOFFSETFROM:-0500
TZOFFSETTO:-0600
TZNAME:CST
DTSTART:20241103T070000
END:STANDARD
BEGIN:DAYLIGHT
TZOFFSETFROM:-0600
TZOFFSETTO:-0500
TZNAME:CDT
DTSTART:20250309T080000
END:DAYLIGHT
BEGIN:STANDARD
TZOFFSETFROM:-0500
TZOFFSETTO:-0600
TZNAME:CST
DTSTART:20251102T070000
END:STANDARD
END:VTIMEZONE
BEGIN:VTIMEZONE
TZID:UTC
BEGIN:STANDARD
TZOFFSETFROM:+0000
TZOFFSETTO:+0000
TZNAME:UTC
DTSTART:20230101T000000
END:STANDARD
END:VTIMEZONE
BEGIN:VEVENT
DTSTART;TZID=America/Chicago:20241126T120000
DTEND;TZID=America/Chicago:20241126T133000
DTSTAMP:20260419T074810
CREATED:20241031T132230Z
LAST-MODIFIED:20241031T132230Z
UID:10000383-1732622400-1732627800@www.lltc.edu
SUMMARY:November Book Club & Potluck
DESCRIPTION:The Bezhigoogahbow Library will be hosting a book club/potluck\, on Tuesday\, November 26th from 12-1:30 PM. Our book selection for November is\, Where They Last Saw Her\, by Marcie R. Rendon. To read a synopsis of the book and/or to purchase a copy\, you can use this link: Where They Last Saw Her: A Novel: Rendon\, Marcie R. \nWe will be featuring a new book monthly and host a book club and potluck gathering during the last week of each month. Our book selections will be announced at each gathering. \nFor further questions\, please contact Kim Dickson at kim.dickson@lltc.edu or 218.335.4240. Happy reading!
URL:https://www.lltc.edu/event/november-book-club-potluck/
LOCATION:Bezhigoogahbow Library\, 6945 Little Wolf Rd NW\, Cass Lake\, MN\, 56633\, United States
END:VEVENT
BEGIN:VEVENT
DTSTART;TZID=America/Chicago:20241009T130000
DTEND;TZID=America/Chicago:20241009T153000
DTSTAMP:20260419T074810
CREATED:20241007T140413Z
LAST-MODIFIED:20241007T140507Z
UID:10000370-1728478800-1728487800@www.lltc.edu
SUMMARY:I Belong Here! Traveling Exhibition
DESCRIPTION:Please stop in the Bezhigoogahbow Library at Leech Lake Tribal College\, from 1-3:30 on Wednesday October 9th\, to view the Circle of Belonging mural. \nFor more information about the Circles of Belonging art project or to get involved\, visit www.culturaldestinations.org/ibelonghere. \nTour Dates:\nOctober 3 – 4-7 pm\, Rondo Library Saint Paul\nOctober 4\, 10 am to Noon – Willmar Public Library\nOctober 4\, 2-45pm to 5:45 pm – Saint Cloud Public Library\nOctober 5\, 12:30 to 3:30 pm – Minnesota History Center\, Saint Paul\nOctober 7\, 3 – 5 pm\, Rochester Public Library\nOctober 9\, 1-3:30 pm – Bezhigoogahbow Library at Leech Lake Tribal College\nOctober 9\, 4- 7 pm\, Bemidji Public Library\nOctober 10\, 10 to 1 pm\, Moorhead Public Libra\nOctober 10\, 3-5 pm\, Detroit Lakes Public Library
URL:https://www.lltc.edu/event/i-belong-here-traveling-exhibition/
LOCATION:Bezhigoogahbow Library\, 6945 Little Wolf Rd NW\, Cass Lake\, MN\, 56633\, United States
ATTACH;FMTTYPE=image/png:https://www.lltc.edu/wp-content/uploads/2024/10/IBelongHereCardS-002.png
END:VEVENT
BEGIN:VEVENT
DTSTART;TZID=America/Chicago:20241001T080000
DTEND;TZID=America/Chicago:20241031T163000
DTSTAMP:20260419T074810
CREATED:20240913T151857Z
LAST-MODIFIED:20240913T151857Z
UID:10000238-1727769600-1730392200@www.lltc.edu
SUMMARY:October Blind Date With a Book
DESCRIPTION:Blind Date With A Book is Back this October!\n\n\nHow to participate:\n1. Read the clue on the wrapped Book.\n2. Pick your Book.\n3. Check it out.\n4. Read it.\n5. Return your date .\n6. Rate your Date (the book you read).\n7. Enter the Drawing to win a prize.
URL:https://www.lltc.edu/event/october-blind-date-with-a-book/
LOCATION:Bezhigoogahbow Library\, 6945 Little Wolf Rd NW\, Cass Lake\, MN\, 56633\, United States
END:VEVENT
BEGIN:VEVENT
DTSTART;TZID=America/Chicago:20240817T110000
DTEND;TZID=America/Chicago:20240817T150000
DTSTAMP:20260419T074810
CREATED:20240806T150128Z
LAST-MODIFIED:20240806T150128Z
UID:10000235-1723892400-1723906800@www.lltc.edu
SUMMARY:WE ARE WATER: Grand Opening
DESCRIPTION:WE ARE WATER: Grand Opening Event!\n\n\n\nJoin us for the grand opening of the “We Are Water MN” traveling exhibit! Discover the vital role water plays in our lives and communities. Engage with interactive displays and learn more about water conservation efforts.\n\n\n\nStay tuned for more details!
URL:https://www.lltc.edu/event/we-are-water-grand-opening/
LOCATION:Bezhigoogahbow Library\, 6945 Little Wolf Rd NW\, Cass Lake\, MN\, 56633\, United States
END:VEVENT
BEGIN:VEVENT
DTSTART;TZID=America/Chicago:20240803T100000
DTEND;TZID=America/Chicago:20240803T130000
DTSTAMP:20260419T074810
CREATED:20240610T135818Z
LAST-MODIFIED:20240718T122545Z
UID:10000171-1722679200-1722690000@www.lltc.edu
SUMMARY:Knitting and Crochet Circle
DESCRIPTION:Bezhigoogahbow Library is hosting a Knitting and Crochet Circle for three Saturdays this summer!\n\n\n\nBring your crochet and knitting projects and spend the afternoon among other crafters. Beginners to experts are welcome\, everyone works on their own projects and shares tips\, tricks\, and ideas. Light refreshments will be provided during this event.\n\n\n\nFor more information please contact Kim Dickson at (218) 335-4240 or kim.dickson@lltc.edu.
URL:https://www.lltc.edu/event/9610/2024-08-03/
LOCATION:Bezhigoogahbow Library\, 6945 Little Wolf Rd NW\, Cass Lake\, MN\, 56633\, United States
END:VEVENT
BEGIN:VEVENT
DTSTART;TZID=America/Chicago:20240615T100000
DTEND;TZID=America/Chicago:20240615T130000
DTSTAMP:20260419T074810
CREATED:20240610T135818Z
LAST-MODIFIED:20240718T122545Z
UID:10000169-1718445600-1718456400@www.lltc.edu
SUMMARY:Knitting and Crochet Circle
DESCRIPTION:Bezhigoogahbow Library is hosting a Knitting and Crochet Circle for three Saturdays this summer!\n\n\n\nBring your crochet and knitting projects and spend the afternoon among other crafters. Beginners to experts are welcome\, everyone works on their own projects and shares tips\, tricks\, and ideas. Light refreshments will be provided during this event.\n\n\n\nFor more information please contact Kim Dickson at (218) 335-4240 or kim.dickson@lltc.edu.
URL:https://www.lltc.edu/event/9610/2024-06-15/
LOCATION:Bezhigoogahbow Library\, 6945 Little Wolf Rd NW\, Cass Lake\, MN\, 56633\, United States
END:VEVENT
BEGIN:VEVENT
DTSTART;TZID=America/Chicago:20240422T083000
DTEND;TZID=America/Chicago:20240423T200000
DTSTAMP:20260419T074810
CREATED:20240419T142835Z
LAST-MODIFIED:20240419T142912Z
UID:10000129-1713774600-1713902400@www.lltc.edu
SUMMARY:Black Ash Basket Making Workshop
DESCRIPTION:Come join us for a creative workshop where you will be able to create a Basket through Black Ash! Monday will have 2 basketmaking workshops and a site visit\, and Tuesday will only have the 2 workshop sessions. For the site visit we will meet at LLTC parking lot by 8:30am and go to harvest an ash tree and discuss with a Northern Research Station Forester the introduction of Emerald Ash Borer. The basket making instructor will also talk about selecting a good tree for basket making. Food will be provided at the workshop sessions but dietary restrictions can’t be accommodated on all Monday sessions. There’s limited space so sign up today!
URL:https://www.lltc.edu/event/black-ash-basket-making-workshop/
LOCATION:Bezhigoogahbow Library\, 6945 Little Wolf Rd NW\, Cass Lake\, MN\, 56633\, United States
ATTACH;FMTTYPE=image/jpeg:https://www.lltc.edu/wp-content/uploads/2024/04/Basketmaking-event-flier-01.jpg
END:VEVENT
BEGIN:VEVENT
DTSTART;TZID=UTC:20240201T080000
DTEND;TZID=UTC:20240229T170000
DTSTAMP:20260419T074810
CREATED:20240212T204004Z
LAST-MODIFIED:20240212T204004Z
UID:10000120-1706774400-1709226000@www.lltc.edu
SUMMARY:Blind Date with a Book
DESCRIPTION:Blind Date with a Book! February 1st-29th 2024.\n\n\nHow to participate:\n1. Read the clue on the wrapped Book.\n2. Pick your Book.\n3. Check it out.\n4. Read it.\n5. Return your date .\n6. Rate your Date (the book you read).\n7. Enter the Drawing to win a prize.\n\n\nFor more info Contact Kim Dickson at (218) 335-4240
URL:https://www.lltc.edu/event/blind-date-with-a-book/
LOCATION:Bezhigoogahbow Library\, 6945 Little Wolf Rd NW\, Cass Lake\, MN\, 56633\, United States
ATTACH;FMTTYPE=image/jpeg:https://www.lltc.edu/wp-content/uploads/2024/02/421659773_812921467517494_2830721034980995120_n.jpg
END:VEVENT
END:VCALENDAR