BEGIN:VCALENDAR
VERSION:2.0
PRODID:-//Leech Lake Tribal College - ECPv6.15.20//NONSGML v1.0//EN
CALSCALE:GREGORIAN
METHOD:PUBLISH
X-WR-CALNAME:Leech Lake Tribal College
X-ORIGINAL-URL:https://www.lltc.edu
X-WR-CALDESC:Events for Leech Lake Tribal College
REFRESH-INTERVAL;VALUE=DURATION:PT1H
X-Robots-Tag:noindex
X-PUBLISHED-TTL:PT1H
BEGIN:VTIMEZONE
TZID:America/Chicago
BEGIN:DAYLIGHT
TZOFFSETFROM:-0600
TZOFFSETTO:-0500
TZNAME:CDT
DTSTART:20240310T080000
END:DAYLIGHT
BEGIN:STANDARD
TZOFFSETFROM:-0500
TZOFFSETTO:-0600
TZNAME:CST
DTSTART:20241103T070000
END:STANDARD
BEGIN:DAYLIGHT
TZOFFSETFROM:-0600
TZOFFSETTO:-0500
TZNAME:CDT
DTSTART:20250309T080000
END:DAYLIGHT
BEGIN:STANDARD
TZOFFSETFROM:-0500
TZOFFSETTO:-0600
TZNAME:CST
DTSTART:20251102T070000
END:STANDARD
BEGIN:DAYLIGHT
TZOFFSETFROM:-0600
TZOFFSETTO:-0500
TZNAME:CDT
DTSTART:20260308T080000
END:DAYLIGHT
BEGIN:STANDARD
TZOFFSETFROM:-0500
TZOFFSETTO:-0600
TZNAME:CST
DTSTART:20261101T070000
END:STANDARD
END:VTIMEZONE
BEGIN:VEVENT
DTSTART;TZID=America/Chicago:20250728T180000
DTEND;TZID=America/Chicago:20250728T200000
DTSTAMP:20260419T112817
CREATED:20250603T182747Z
LAST-MODIFIED:20250610T163103Z
UID:10000482-1753725600-1753732800@www.lltc.edu
SUMMARY:2025 Board of Trustees Meetings
DESCRIPTION:
URL:https://www.lltc.edu/event/2025-board-of-trustees-meetings-june/2025-07-28/
LOCATION:Leech Lake Tribal College\, 6945 Little Wolf Rd NW\, Cass Lake\, MN\, 56633\, United States
CATEGORIES:Board of Trustees Events
END:VEVENT
BEGIN:VEVENT
DTSTART;TZID=America/Chicago:20250728T180000
DTEND;TZID=America/Chicago:20250728T200000
DTSTAMP:20260419T112817
CREATED:20250603T182909Z
LAST-MODIFIED:20250603T182909Z
UID:10000469-1753725600-1753732800@www.lltc.edu
SUMMARY:2025 Board of Trustees Meetings - July
DESCRIPTION:
URL:https://www.lltc.edu/event/2025-board-of-trustees-meetings-july/
LOCATION:Leech Lake Tribal College\, 6945 Little Wolf Rd NW\, Cass Lake\, MN\, 56633\, United States
CATEGORIES:Board of Trustees Events
END:VEVENT
END:VCALENDAR